BEGIN:VCALENDAR
VERSION:2.0
PRODID:-//demosphere.net//NONSGML kigkonsult.se iCalcreator 2.22.1//
METHOD:REQUEST
X-WR-TIMEZONE:Europe/Athens
BEGIN:VEVENT
UID:https://thessaloniki.kinimatorama.net/event/98601
DTSTAMP:20180626T183000Z
DESCRIPTION:περισσότερες πληροφορίες: https://thessaloniki.kinimatorama.net
 /event/98601 
DTSTART:20180626T183000Z
DTEND:20180626T193000Z
GEO:+37.968612;+23.746455
LOCATION:Αθήνα\, \nΆλσος Παγκρατίου \nΣπ.Μερκούρη & Ευτυχίδου \n(Τρόλεϊ 2\,
 11 - Λεωφορεία 203\,204\,204B\,211 \nστάση ΑΛΣΟΣ)
SUMMARY:(αναβάλλεται) Παραδοσιακό γλέντι στο Άλσος Παγκρατίου με την Καίτη 
 Κουλλιά 
URL:https://thessaloniki.kinimatorama.net/event/98601
END:VEVENT
END:VCALENDAR
