BEGIN:VCALENDAR
VERSION:2.0
PRODID:-//demosphere.net//NONSGML kigkonsult.se iCalcreator 2.22.1//
METHOD:REQUEST
X-WR-TIMEZONE:Europe/Athens
BEGIN:VEVENT
UID:https://thessaloniki.kinimatorama.net/event/98713
DTSTAMP:20180627T170000Z
DESCRIPTION:περισσότερες πληροφορίες: https://thessaloniki.kinimatorama.net
 /event/98713 
DTSTART:20180627T170000Z
DTEND:20180627T180000Z
GEO:+35.341459;+25.132416
LOCATION:Ηράκλειο\, \nΚατάληψη Ευαγγελισμού \nΘεοτοκοπούλου 18
SUMMARY:Αγώνες ενάντια στην πατριαρχία - παρουσίαση της νέας στήλης της άπα
 τρις
URL:https://thessaloniki.kinimatorama.net/event/98713
END:VEVENT
END:VCALENDAR
