BEGIN:VCALENDAR
VERSION:2.0
PRODID:-//demosphere.net//NONSGML kigkonsult.se iCalcreator 2.22.1//
METHOD:REQUEST
X-WR-TIMEZONE:Europe/Athens
BEGIN:VEVENT
UID:https://thessaloniki.kinimatorama.net/event/98725
DTSTAMP:20180705T160000Z
DESCRIPTION:περισσότερες πληροφορίες: https://thessaloniki.kinimatorama.net
 /event/98725 
DTSTART:20180705T160000Z
DTEND:20180705T170000Z
GEO:+35.341459;+25.132416
LOCATION:Ηράκλειο\, \nΚατάληψη Ευαγγελισμού \nΘεοτοκοπούλου 18
SUMMARY:Βιβλιοπαρουσίαση: 'εξηγώντας την Αναρχία στον μπαμπά μου' (+)κοκτέι
 λ μπάρ
URL:https://thessaloniki.kinimatorama.net/event/98725
END:VEVENT
END:VCALENDAR
