BEGIN:VCALENDAR
VERSION:2.0
PRODID:-//demosphere.net//NONSGML kigkonsult.se iCalcreator 2.22.1//
METHOD:REQUEST
X-WR-TIMEZONE:Europe/Athens
BEGIN:VEVENT
UID:https://thessaloniki.kinimatorama.net/event/99221
DTSTAMP:20180713T090000Z
DESCRIPTION:περισσότερες πληροφορίες: https://thessaloniki.kinimatorama.net
 /event/99221 
DTSTART:20180713T090000Z
DTEND:20180713T100000Z
GEO:+37.995376;+23.743086
LOCATION:Αθήνα\, \nΔικαστήρια Ευελπίδων
SUMMARY:Συγκέντρωση για τον σύντροφο με το κουτάβι & συζήτηση για το τετράπ
 οδο συντροφάκι μας
URL:https://thessaloniki.kinimatorama.net/event/99221
END:VEVENT
END:VCALENDAR
