BEGIN:VCALENDAR
VERSION:2.0
PRODID:-//demosphere.net//NONSGML kigkonsult.se iCalcreator 2.22.1//
METHOD:REQUEST
X-WR-TIMEZONE:Europe/Athens
BEGIN:VEVENT
UID:https://thessaloniki.kinimatorama.net/event/99470
DTSTAMP:20180726T080000Z
DESCRIPTION:περισσότερες πληροφορίες: https://thessaloniki.kinimatorama.net
 /event/99470 
DTSTART:20180726T080000Z
DTEND:20180726T090000Z
GEO:+40.639326;+22.932823
LOCATION:Θεσσαλονίκη\, \nΔικαστήρια Θεσσαλονίκης
SUMMARY:[Θεσσαλονίκη] Συγκέντρωση αλληλεγγύης στον συλληφθέντα της 25/7
URL:https://thessaloniki.kinimatorama.net/event/99470
END:VEVENT
END:VCALENDAR
