BEGIN:VCALENDAR
VERSION:2.0
PRODID:-//demosphere.net//NONSGML kigkonsult.se iCalcreator 2.22.1//
METHOD:PUBLISH
X-WR-CALNAME:kinimatorama.net
X-WR-CALDESC:ημερολόγιο από/για το κίνημα
X-WR-RELCALID:764bff33aaf2d99a5dfd7a603c939a7f
X-WR-TIMEZONE:Europe/Athens
BEGIN:VEVENT
UID:https://thessaloniki.kinimatorama.net/event/189723
DTSTAMP:20260425T180000Z
DESCRIPTION:περισσότερες πληροφορίες: https://thessaloniki.kinimatorama.net
 /event/189723 
DTSTART:20260425T180000Z
DTEND:20260425T190000Z
GEO:00;0
LOCATION:Αργυρούπολη\, \nΥπόστεγο \n(Αυτοδιαχειριζόμενο Στέκι Αργυρούπολης)
  \n25ης Μαρτίου 38 \n(πλησίον σταθμού Μετρό ΑΡΓΥΡΟΥΠΟΛΗ)
SUMMARY:Μπαρ στον κήπο του Υποστέγου για δικαστικά έξοδα
URL:https://thessaloniki.kinimatorama.net/event/189723
END:VEVENT
END:VCALENDAR
